BEGIN:VCALENDAR
VERSION:2.0
X-WR-CALNAME:EventsCalendar
BEGIN:VEVENT
DESCRIPTION:Event description Ready to kickstart your academic journey at SCC? Join us for our Enrollment Night event at our Cherokee County Campus! We&#039;re extending our hours until 7:00 PM to provide you with afterhours support as you prepare to take on the upcoming semester. This is your chance to:  Register for Classes:&amp;nbsp;Secure your spot in the courses you need. Submit Required Documents:&amp;nbsp;Ensure your paperwork is complete and processed efficiently. Get General Admissions Help:&amp;nbsp;Receive personalized assistance with any questions you may have about the admissions process.  Don&#039;t let your busy schedule hold you back! Take advantage of this opportunity to finalize your enrollment and get ready for a successful semester at Spartanburg Community College. We&#039;re here to help you every step of the way! Register Today11925
DTSTAMP:20260425T122847
DTSTART:20260425T170000
DTEND:20260425T190000
LOCATION:SCC Cherokee County Campus
SUMMARY;LANGUAGE=en-us:Enrollment Night Cherokee Campus | 4/25/2026 
UID:3d3ac83e7f2081db535526422328feda@sccscedu-lb01-production.terminalfour.net
END:VEVENT
END:VCALENDAR







